BEGIN:VCALENDAR
VERSION:2.0
PRODID:-//Northeastern Community Action Partnership - ECPv6.6.4.2//NONSGML v1.0//EN
CALSCALE:GREGORIAN
METHOD:PUBLISH
X-ORIGINAL-URL:https://northeasterncap.com
X-WR-CALDESC:Events for Northeastern Community Action Partnership
REFRESH-INTERVAL;VALUE=DURATION:PT1H
X-Robots-Tag:noindex
X-PUBLISHED-TTL:PT1H
BEGIN:VTIMEZONE
TZID:UTC
BEGIN:STANDARD
TZOFFSETFROM:+0000
TZOFFSETTO:+0000
TZNAME:UTC
DTSTART:20230101T000000
END:STANDARD
END:VTIMEZONE
BEGIN:VEVENT
DTSTART;VALUE=DATE:20231115
DTEND;VALUE=DATE:20240801
DTSTAMP:20260422T192658
CREATED:20231115T171721Z
LAST-MODIFIED:20231115T171721Z
UID:25329-1700006400-1722470399@northeasterncap.com
SUMMARY:GAMBLING PROBLEM SCREENING
DESCRIPTION:PG Screening Flyer  \n 
URL:https://northeasterncap.com/event/gambling-problem-screening/
END:VEVENT
BEGIN:VEVENT
DTSTART;VALUE=DATE:20240102
DTEND;VALUE=DATE:20240201
DTSTAMP:20260422T192658
CREATED:20240102T160425Z
LAST-MODIFIED:20240102T160425Z
UID:25342-1704153600-1706745599@northeasterncap.com
SUMMARY:January 2024 Events @ the Noteworthy Center
DESCRIPTION:Jan Event Calendar Noteworthy
URL:https://northeasterncap.com/event/january-2024-events-the-noteworthy-center/
END:VEVENT
END:VCALENDAR